BEGIN:VCALENDAR
CALSCALE:GREGORIAN
X-WR-TIMEZONE;VALUE=TEXT:GMT
PRODID:PEAK Corporation - piCal -
X-WR-CALNAME;VALUE=TEXT:ＰＣ：辻ゼミ
VERSION:2.0
METHOD:PUBLISH
BEGIN:VTIMEZONE
TZID:GMT
BEGIN:STANDARD
DTSTART:19390101T000000
TZOFFSETFROM:+0000
TZOFFSETTO:+0000
TZNAME:GMT
END:STANDARD
END:VTIMEZONE
BEGIN:VEVENT
DTSTART:20130604T043000Z
DTEND:20130604T063000Z
LOCATION:洞戸生涯学習センター：ネットサロン室
TRANSP:OPAQUE
SEQUENCE:0
UID:pical060-454a7c249b5faf3f30c46070be81553c
DTSTAMP:20130526T150203Z
CATEGORIES:ネットサロン
DESCRIPTION:《　内容　》\n・昔の古い写真をスキャンしてＵＳＢに保存します。\n・保存した写真をエンディングノートに挿入します。
SUMMARY:ＰＣ：辻ゼミ
PRIORITY:0
CLASS:PUBLIC
END:VEVENT
END:VCALENDAR
