BEGIN:VCALENDAR
CALSCALE:GREGORIAN
X-WR-TIMEZONE;VALUE=TEXT:GMT
PRODID:PEAK Corporation - piCal -
X-WR-CALNAME;VALUE=TEXT:洞戸小　山の子収穫祭
VERSION:2.0
METHOD:PUBLISH
BEGIN:VTIMEZONE
TZID:GMT
BEGIN:STANDARD
DTSTART:19390101T000000
TZOFFSETFROM:+0000
TZOFFSETTO:+0000
TZNAME:GMT
END:STANDARD
END:VTIMEZONE
BEGIN:VEVENT
DTSTART:20131030T003000Z
DTEND:20131030T032000Z
LOCATION:洞戸小学校　体育館
TRANSP:OPAQUE
SEQUENCE:0
UID:pical060-c6c49d50387e1f03c0ebc8c2cbd11284
DTSTAMP:20130927T072227Z
CATEGORIES:学校関連（小中）
DESCRIPTION:
SUMMARY:洞戸小　山の子収穫祭
PRIORITY:0
CLASS:PUBLIC
END:VEVENT
END:VCALENDAR
