BEGIN:VCALENDAR
CALSCALE:GREGORIAN
X-WR-TIMEZONE;VALUE=TEXT:GMT
PRODID:PEAK Corporation - piCal -
X-WR-CALNAME;VALUE=TEXT:PC:辻ゼミ
VERSION:2.0
METHOD:PUBLISH
BEGIN:VTIMEZONE
TZID:GMT
BEGIN:STANDARD
DTSTART:19390101T000000
TZOFFSETFROM:+0000
TZOFFSETTO:+0000
TZNAME:GMT
END:STANDARD
END:VTIMEZONE
BEGIN:VEVENT
DTSTART:20131022T043000Z
DTEND:20131022T063000Z
LOCATION:洞戸生涯学習センター：ネットサロン室
TRANSP:OPAQUE
SEQUENCE:0
UID:pical060-57cf28781a5f70ec1a9a2e57d612c60d
DTSTAMP:20131002T084308Z
CATEGORIES:ネットサロン
DESCRIPTION:《　内　容　》\n・エンディングノート作成\n・写真等のスキャン・保存方法\n・写真、クリップアート等の挿入方法\n・その他
SUMMARY:PC:辻ゼミ
PRIORITY:0
CLASS:PUBLIC
END:VEVENT
END:VCALENDAR
