BEGIN:VCALENDAR
CALSCALE:GREGORIAN
X-WR-TIMEZONE;VALUE=TEXT:GMT
PRODID:PEAK Corporation - piCal -
X-WR-CALNAME;VALUE=TEXT:社協洞戸支部：理事会
VERSION:2.0
METHOD:PUBLISH
BEGIN:VTIMEZONE
TZID:GMT
BEGIN:STANDARD
DTSTART:19390101T000000
TZOFFSETFROM:+0000
TZOFFSETTO:+0000
TZNAME:GMT
END:STANDARD
END:VTIMEZONE
BEGIN:VEVENT
DTSTART:20131106T100000Z
DTEND:20131106T123000Z
LOCATION:洞戸老人福祉センター・軽作業室
TRANSP:OPAQUE
SEQUENCE:0
UID:pical060-c842a97553d965034448a11427391f9d
DTSTAMP:20131031T135912Z
CATEGORIES:社協　洞戸支部
DESCRIPTION:《　議題　》\n・関西秋の祭典について\n・ミニ集会（市場）について\n・地域福祉懇談会内容の検討\n・各部会からの報告\n・その他
SUMMARY:社協洞戸支部：理事会
PRIORITY:0
CLASS:PUBLIC
END:VEVENT
END:VCALENDAR
