BEGIN:VCALENDAR
CALSCALE:GREGORIAN
X-WR-TIMEZONE;VALUE=TEXT:GMT
PRODID:PEAK Corporation - piCal -
X-WR-CALNAME;VALUE=TEXT:社協洞戸支部：研修会　　　
VERSION:2.0
METHOD:PUBLISH
BEGIN:VTIMEZONE
TZID:GMT
BEGIN:STANDARD
DTSTART:19390101T000000
TZOFFSETFROM:+0000
TZOFFSETTO:+0000
TZNAME:GMT
END:STANDARD
END:VTIMEZONE
BEGIN:VEVENT
DTSTART:20131126T221500Z
DTEND:20131127T103000Z
LOCATION:
TRANSP:OPAQUE
SEQUENCE:0
UID:pical060-db9d9e709553f8267a0e5582f1fb74c2
DTSTAMP:20131031T141011Z
CATEGORIES:社協　洞戸支部
DESCRIPTION:《　役員研修会　》\n　日　　時：平成25年11月27日（水）\n　研 修 先：比叡山延暦寺と平安神宮・神苑\n           （社内研修）\n　参 加 費：４,０００円（当日徴収）\n　集合場所：洞戸事務所（駐車場）\n　集合時間：午前7時15分\n　週発時間：午前7時30分\n
SUMMARY:社協洞戸支部：研修会　　　
PRIORITY:0
CLASS:PUBLIC
END:VEVENT
END:VCALENDAR
