BEGIN:VCALENDAR
CALSCALE:GREGORIAN
X-WR-TIMEZONE;VALUE=TEXT:GMT
PRODID:PEAK Corporation - piCal -
X-WR-CALNAME;VALUE=TEXT:PC:年賀状（裏面）作り（辻ゼミ）
VERSION:2.0
METHOD:PUBLISH
BEGIN:VTIMEZONE
TZID:GMT
BEGIN:STANDARD
DTSTART:19390101T000000
TZOFFSETFROM:+0000
TZOFFSETTO:+0000
TZNAME:GMT
END:STANDARD
END:VTIMEZONE
BEGIN:VEVENT
DTSTART:20131119T043000Z
DTEND:20131119T063000Z
LOCATION:洞戸生涯学習センター：ネットサロン室　　　　
TRANSP:OPAQUE
SEQUENCE:1
UID:pical060-271d1ce7c3dd0660dd6fd20f64ee839d
DTSTAMP:20131031T142308Z
CATEGORIES:ネットサロン
DESCRIPTION:《　内容　》\n・年賀状（裏面）の作成\n　（無料年賀状画像や写真を挿入して作成します）
SUMMARY:PC:年賀状（裏面）作り（辻ゼミ）
PRIORITY:0
CLASS:PUBLIC
END:VEVENT
END:VCALENDAR
