BEGIN:VCALENDAR
CALSCALE:GREGORIAN
X-WR-TIMEZONE;VALUE=TEXT:GMT
PRODID:PEAK Corporation - piCal -
X-WR-CALNAME;VALUE=TEXT:関西秋の祭典
VERSION:2.0
METHOD:PUBLISH
BEGIN:VTIMEZONE
TZID:GMT
BEGIN:STANDARD
DTSTART:19390101T000000
TZOFFSETFROM:+0000
TZOFFSETTO:+0000
TZNAME:GMT
END:STANDARD
END:VTIMEZONE
BEGIN:VEVENT
DTSTART:20131109T000000Z
DTEND:20131110T070000Z
LOCATION:
TRANSP:OPAQUE
SEQUENCE:1
UID:pical060-dc29e80ce190887396194bbbd4b3b81f
DTSTAMP:20131107T064220Z
CATEGORIES:
DESCRIPTION:学習センター付近で開催\n　10日16時より餅まき
SUMMARY:関西秋の祭典
PRIORITY:0
CLASS:PUBLIC
END:VEVENT
END:VCALENDAR
