BEGIN:VCALENDAR
CALSCALE:GREGORIAN
X-WR-TIMEZONE;VALUE=TEXT:GMT
PRODID:PEAK Corporation - piCal -
X-WR-CALNAME;VALUE=TEXT:サンサンミュージック　
VERSION:2.0
METHOD:PUBLISH
BEGIN:VTIMEZONE
TZID:GMT
BEGIN:STANDARD
DTSTART:19390101T000000
TZOFFSETFROM:+0000
TZOFFSETTO:+0000
TZNAME:GMT
END:STANDARD
END:VTIMEZONE
BEGIN:VEVENT
DTSTART:20131113T043000Z
DTEND:20131113T063000Z
LOCATION:
TRANSP:OPAQUE
SEQUENCE:0
UID:pical060-ceaebf6a536a2fb1a28c25f39ea5a274
DTSTAMP:20131107T064405Z
CATEGORIES:
DESCRIPTION:学習センター　集会室
SUMMARY:サンサンミュージック　
PRIORITY:0
CLASS:PUBLIC
END:VEVENT
END:VCALENDAR
