BEGIN:VCALENDAR
CALSCALE:GREGORIAN
X-WR-TIMEZONE;VALUE=TEXT:GMT
PRODID:PEAK Corporation - piCal -
X-WR-CALNAME;VALUE=TEXT:乳幼児学級
VERSION:2.0
METHOD:PUBLISH
BEGIN:VTIMEZONE
TZID:GMT
BEGIN:STANDARD
DTSTART:19390101T000000
TZOFFSETFROM:+0000
TZOFFSETTO:+0000
TZNAME:GMT
END:STANDARD
END:VTIMEZONE
BEGIN:VEVENT
DTSTART:20131113T010000Z
DTEND:20131113T030000Z
LOCATION:学習センター
TRANSP:OPAQUE
SEQUENCE:0
UID:pical060-8940098f668cf6314baf024e8132978f
DTSTAMP:20131107T064542Z
CATEGORIES:
DESCRIPTION:集会室　おやこリトミック
SUMMARY:乳幼児学級
PRIORITY:0
CLASS:PUBLIC
END:VEVENT
END:VCALENDAR
