BEGIN:VCALENDAR
CALSCALE:GREGORIAN
X-WR-TIMEZONE;VALUE=TEXT:GMT
PRODID:PEAK Corporation - piCal -
X-WR-CALNAME;VALUE=TEXT:ヨガ教室
VERSION:2.0
METHOD:PUBLISH
BEGIN:VTIMEZONE
TZID:GMT
BEGIN:STANDARD
DTSTART:19390101T000000
TZOFFSETFROM:+0000
TZOFFSETTO:+0000
TZNAME:GMT
END:STANDARD
END:VTIMEZONE
BEGIN:VEVENT
DTSTART:20131127T010000Z
DTEND:20131127T023000Z
LOCATION:学習センター
TRANSP:OPAQUE
SEQUENCE:0
UID:pical060-ac7789173f3800ea80d0b546b7f66796
DTSTAMP:20131107T065028Z
CATEGORIES:
DESCRIPTION:成人学級での開催\n
SUMMARY:ヨガ教室
PRIORITY:0
CLASS:PUBLIC
END:VEVENT
END:VCALENDAR
