BEGIN:VCALENDAR
CALSCALE:GREGORIAN
X-WR-TIMEZONE;VALUE=TEXT:GMT
PRODID:PEAK Corporation - piCal -
X-WR-CALNAME;VALUE=TEXT:サンサンミュージック
VERSION:2.0
METHOD:PUBLISH
BEGIN:VTIMEZONE
TZID:GMT
BEGIN:STANDARD
DTSTART:19390101T000000
TZOFFSETFROM:+0000
TZOFFSETTO:+0000
TZNAME:GMT
END:STANDARD
END:VTIMEZONE
BEGIN:VEVENT
DTSTART:20131127T043000Z
DTEND:20131127T060000Z
LOCATION:学習センター
TRANSP:OPAQUE
SEQUENCE:0
UID:pical060-26f90b92f2a6a49717cd216987f0e2df
DTSTAMP:20131107T065119Z
CATEGORIES:
DESCRIPTION:
SUMMARY:サンサンミュージック
PRIORITY:0
CLASS:PUBLIC
END:VEVENT
END:VCALENDAR
