BEGIN:VCALENDAR
CALSCALE:GREGORIAN
X-WR-TIMEZONE;VALUE=TEXT:GMT
PRODID:PEAK Corporation - piCal -
X-WR-CALNAME;VALUE=TEXT:乳幼児学級
VERSION:2.0
METHOD:PUBLISH
BEGIN:VTIMEZONE
TZID:GMT
BEGIN:STANDARD
DTSTART:19390101T000000
TZOFFSETFROM:+0000
TZOFFSETTO:+0000
TZNAME:GMT
END:STANDARD
END:VTIMEZONE
BEGIN:VEVENT
DTSTART:20131127T010000Z
DTEND:20131127T020000Z
LOCATION:学習センター
TRANSP:OPAQUE
SEQUENCE:0
UID:pical060-8c7aba835135eb13698a6f01ad1e87de
DTSTAMP:20131107T065321Z
CATEGORIES:
DESCRIPTION:クリスマス会準備\n
SUMMARY:乳幼児学級
PRIORITY:0
CLASS:PUBLIC
END:VEVENT
END:VCALENDAR
