BEGIN:VCALENDAR
CALSCALE:GREGORIAN
X-WR-TIMEZONE;VALUE=TEXT:GMT
PRODID:PEAK Corporation - piCal -
X-WR-CALNAME;VALUE=TEXT:硯会
VERSION:2.0
METHOD:PUBLISH
BEGIN:VTIMEZONE
TZID:GMT
BEGIN:STANDARD
DTSTART:19390101T000000
TZOFFSETFROM:+0000
TZOFFSETTO:+0000
TZNAME:GMT
END:STANDARD
END:VTIMEZONE
BEGIN:VEVENT
DTSTART:20131127T103000Z
DTEND:20131127T123000Z
LOCATION:学習センター　和室
TRANSP:OPAQUE
SEQUENCE:0
UID:pical060-6e4919ed2818cbd4e033c50ac8a2ac5c
DTSTAMP:20131107T065427Z
CATEGORIES:
DESCRIPTION:
SUMMARY:硯会
PRIORITY:0
CLASS:PUBLIC
END:VEVENT
END:VCALENDAR
