BEGIN:VCALENDAR
CALSCALE:GREGORIAN
X-WR-TIMEZONE;VALUE=TEXT:GMT
PRODID:PEAK Corporation - piCal -
X-WR-CALNAME;VALUE=TEXT:法令講習
VERSION:2.0
METHOD:PUBLISH
BEGIN:VTIMEZONE
TZID:GMT
BEGIN:STANDARD
DTSTART:19390101T000000
TZOFFSETFROM:+0000
TZOFFSETTO:+0000
TZNAME:GMT
END:STANDARD
END:VTIMEZONE
BEGIN:VEVENT
DTSTART:20131112T100000Z
DTEND:20131112T120000Z
LOCATION:学習センター　集会室
TRANSP:OPAQUE
SEQUENCE:0
UID:pical060-f4761aaeeb35b0aa0e9c5c913ed20089
DTSTAMP:20131107T070200Z
CATEGORIES:
DESCRIPTION:
SUMMARY:法令講習
PRIORITY:0
CLASS:PUBLIC
END:VEVENT
END:VCALENDAR
