BEGIN:VCALENDAR
CALSCALE:GREGORIAN
X-WR-TIMEZONE;VALUE=TEXT:GMT
PRODID:PEAK Corporation - piCal -
X-WR-CALNAME;VALUE=TEXT:キウイマラソン実行委員会
VERSION:2.0
METHOD:PUBLISH
BEGIN:VTIMEZONE
TZID:GMT
BEGIN:STANDARD
DTSTART:19390101T000000
TZOFFSETFROM:+0000
TZOFFSETTO:+0000
TZNAME:GMT
END:STANDARD
END:VTIMEZONE
BEGIN:VEVENT
DTSTART:20131114T100000Z
DTEND:20131114T120000Z
LOCATION:学習センター　集会室
TRANSP:OPAQUE
SEQUENCE:0
UID:pical060-931df28c770080fbb3165c374d4cd68c
DTSTAMP:20131107T070723Z
CATEGORIES:
DESCRIPTION:
SUMMARY:キウイマラソン実行委員会
PRIORITY:0
CLASS:PUBLIC
END:VEVENT
END:VCALENDAR
