BEGIN:VCALENDAR
CALSCALE:GREGORIAN
X-WR-TIMEZONE;VALUE=TEXT:GMT
PRODID:PEAK Corporation - piCal -
X-WR-CALNAME;VALUE=TEXT:結婚相談
VERSION:2.0
METHOD:PUBLISH
BEGIN:VTIMEZONE
TZID:GMT
BEGIN:STANDARD
DTSTART:19390101T000000
TZOFFSETFROM:+0000
TZOFFSETTO:+0000
TZNAME:GMT
END:STANDARD
END:VTIMEZONE
BEGIN:VEVENT
DTSTART:20131115T040000Z
DTEND:20131115T063000Z
LOCATION:学習センター　集会室
TRANSP:OPAQUE
SEQUENCE:0
UID:pical060-d2a405d5e0dc905c93bbd707a0cf80ff
DTSTAMP:20131107T071924Z
CATEGORIES:
DESCRIPTION:
SUMMARY:結婚相談
PRIORITY:0
CLASS:PUBLIC
END:VEVENT
END:VCALENDAR
