BEGIN:VCALENDAR
CALSCALE:GREGORIAN
X-WR-TIMEZONE;VALUE=TEXT:GMT
PRODID:PEAK Corporation - piCal -
X-WR-CALNAME;VALUE=TEXT:さくら着付クラブ
VERSION:2.0
METHOD:PUBLISH
BEGIN:VTIMEZONE
TZID:GMT
BEGIN:STANDARD
DTSTART:19390101T000000
TZOFFSETFROM:+0000
TZOFFSETTO:+0000
TZNAME:GMT
END:STANDARD
END:VTIMEZONE
BEGIN:VEVENT
DTSTART:20131114T000000Z
DTEND:20131114T080000Z
LOCATION:学習センター　和室
TRANSP:OPAQUE
SEQUENCE:1
UID:pical060-e51d0b9d18e8b00b89cf81541394aafe
DTSTAMP:20131107T072258Z
CATEGORIES:
DESCRIPTION:
SUMMARY:さくら着付クラブ
PRIORITY:0
CLASS:PUBLIC
END:VEVENT
END:VCALENDAR
