BEGIN:VCALENDAR
CALSCALE:GREGORIAN
X-WR-TIMEZONE;VALUE=TEXT:GMT
PRODID:PEAK Corporation - piCal -
X-WR-CALNAME;VALUE=TEXT:写友フレンズ
VERSION:2.0
METHOD:PUBLISH
BEGIN:VTIMEZONE
TZID:GMT
BEGIN:STANDARD
DTSTART:19390101T000000
TZOFFSETFROM:+0000
TZOFFSETTO:+0000
TZNAME:GMT
END:STANDARD
END:VTIMEZONE
BEGIN:VEVENT
DTSTART:20131126T000000Z
DTEND:20131126T080000Z
LOCATION:学習センター　　和室
TRANSP:OPAQUE
SEQUENCE:0
UID:pical060-85c965995c7361ba86a504f9f79e180b
DTSTAMP:20131107T073020Z
CATEGORIES:
DESCRIPTION:
SUMMARY:写友フレンズ
PRIORITY:0
CLASS:PUBLIC
END:VEVENT
END:VCALENDAR
