BEGIN:VCALENDAR
CALSCALE:GREGORIAN
X-WR-TIMEZONE;VALUE=TEXT:GMT
PRODID:PEAK Corporation - piCal -
X-WR-CALNAME;VALUE=TEXT:配食サービス（社協洞戸支部）
VERSION:2.0
METHOD:PUBLISH
BEGIN:VTIMEZONE
TZID:GMT
BEGIN:STANDARD
DTSTART:19390101T000000
TZOFFSETFROM:+0000
TZOFFSETTO:+0000
TZNAME:GMT
END:STANDARD
END:VTIMEZONE
BEGIN:VEVENT
DTSTART:20131213T000000Z
DTEND:20131213T030000Z
LOCATION:生涯学習センター（調理室）
TRANSP:OPAQUE
SEQUENCE:1
UID:pical060-3c89dd435d966ca5e7b84651aff1897d
DTSTAMP:20131211T133459Z
CATEGORIES:社協　洞戸支部
DESCRIPTION:《　ひとり暮らしの方への弁当配布　》\n・対象者：７５歳以上の方で配食を希望される方\n・弁当を作ってくださる方：食生活改善協議会の方\n・配食をしてくださる方：福祉員・民生委員の方
SUMMARY:配食サービス（社協洞戸支部）
PRIORITY:0
CLASS:PUBLIC
END:VEVENT
END:VCALENDAR
