BEGIN:VCALENDAR
CALSCALE:GREGORIAN
X-WR-TIMEZONE;VALUE=TEXT:GMT
PRODID:PEAK Corporation - piCal -
X-WR-CALNAME;VALUE=TEXT:友愛訪問（関社協洞戸支部）
VERSION:2.0
METHOD:PUBLISH
BEGIN:VTIMEZONE
TZID:GMT
BEGIN:STANDARD
DTSTART:19390101T000000
TZOFFSETFROM:+0000
TZOFFSETTO:+0000
TZNAME:GMT
END:STANDARD
END:VTIMEZONE
BEGIN:VEVENT
DTSTART:20131218T040000Z
DTEND:20131218T080000Z
LOCATION:老人福祉センター（５８−８５１１）
TRANSP:OPAQUE
SEQUENCE:0
UID:pical060-7fd8a6a78395c032203c0515292f9988
DTSTAMP:20131211T134609Z
CATEGORIES:社協　洞戸支部
DESCRIPTION:《　友愛訪問　》・・見守りも兼ねて\n・対象者：７５歳以上のひとり暮らしの方\n　　　　　８０歳以上の高齢世帯の方\n　　　　　介護度３〜５の在宅の方で１１６名\n・配布の品：ティシュペーパーー５箱\n　　　　　　なごやん・コーンスープ\n・配布してくださる方：民生委員、福祉委員の方\n　　　　　　\n
SUMMARY:友愛訪問（関社協洞戸支部）
PRIORITY:0
CLASS:PUBLIC
END:VEVENT
END:VCALENDAR
