BEGIN:VCALENDAR
CALSCALE:GREGORIAN
X-WR-TIMEZONE;VALUE=TEXT:GMT
PRODID:PEAK Corporation - piCal -
X-WR-CALNAME;VALUE=TEXT:おせち料理配布（関市社協）
VERSION:2.0
METHOD:PUBLISH
BEGIN:VTIMEZONE
TZID:GMT
BEGIN:STANDARD
DTSTART:19390101T000000
TZOFFSETFROM:+0000
TZOFFSETTO:+0000
TZNAME:GMT
END:STANDARD
END:VTIMEZONE
BEGIN:VEVENT
DTSTART:20131231T010000Z
DTEND:20131231T030000Z
LOCATION:
TRANSP:OPAQUE
SEQUENCE:0
UID:pical060-104d583458489090b241960f5265fc6f
DTSTAMP:20131211T135658Z
CATEGORIES:社協　洞戸支部
DESCRIPTION:《　おせち料理配布　》\n・対象者：７０歳以上のひとり暮らしの方で年末年始を\n　　　　　ひとりで迎えられる方\n・配布してくださる方：民生委員の方
SUMMARY:おせち料理配布（関市社協）
PRIORITY:0
CLASS:PUBLIC
END:VEVENT
END:VCALENDAR
