BEGIN:VCALENDAR
CALSCALE:GREGORIAN
X-WR-TIMEZONE;VALUE=TEXT:GMT
PRODID:PEAK Corporation - piCal -
X-WR-CALNAME;VALUE=TEXT:サンサンミュージック
VERSION:2.0
METHOD:PUBLISH
BEGIN:VTIMEZONE
TZID:GMT
BEGIN:STANDARD
DTSTART:19390101T000000
TZOFFSETFROM:+0000
TZOFFSETTO:+0000
TZNAME:GMT
END:STANDARD
END:VTIMEZONE
BEGIN:VEVENT
DTSTART:20140129T043000Z
DTEND:20140129T063000Z
LOCATION:生涯学習センター
TRANSP:OPAQUE
SEQUENCE:0
UID:pical060-39c60d3b3a0389ca1416603312715425
DTSTAMP:20140129T044017Z
CATEGORIES:
DESCRIPTION:
SUMMARY:サンサンミュージック
PRIORITY:0
CLASS:PUBLIC
END:VEVENT
END:VCALENDAR
