BEGIN:VCALENDAR
CALSCALE:GREGORIAN
X-WR-TIMEZONE;VALUE=TEXT:GMT
PRODID:PEAK Corporation - piCal -
X-WR-CALNAME;VALUE=TEXT:食改
VERSION:2.0
METHOD:PUBLISH
BEGIN:VTIMEZONE
TZID:GMT
BEGIN:STANDARD
DTSTART:19390101T000000
TZOFFSETFROM:+0000
TZOFFSETTO:+0000
TZNAME:GMT
END:STANDARD
END:VTIMEZONE
BEGIN:VEVENT
DTSTART:20140204T003000Z
DTEND:20140204T023000Z
LOCATION:生涯学習センター
TRANSP:OPAQUE
SEQUENCE:0
UID:pical060-975c4e6a74699b7c2c49a8ade03e97f9
DTSTAMP:20140129T044238Z
CATEGORIES:
DESCRIPTION:来年度の運営と方針についての話し合い\n図書室かロビーにて　
SUMMARY:食改
PRIORITY:0
CLASS:PUBLIC
END:VEVENT
END:VCALENDAR
