BEGIN:VCALENDAR
CALSCALE:GREGORIAN
X-WR-TIMEZONE;VALUE=TEXT:GMT
PRODID:PEAK Corporation - piCal -
X-WR-CALNAME;VALUE=TEXT:ふれあいくらぶ
VERSION:2.0
METHOD:PUBLISH
BEGIN:VTIMEZONE
TZID:GMT
BEGIN:STANDARD
DTSTART:19390101T000000
TZOFFSETFROM:+0000
TZOFFSETTO:+0000
TZNAME:GMT
END:STANDARD
END:VTIMEZONE
BEGIN:VEVENT
DTSTART:20140208T010000Z
DTEND:20140208T030000Z
LOCATION:生涯学習センター
TRANSP:OPAQUE
SEQUENCE:0
UID:pical060-77a5f20d2efa303d452101f9f6e562ce
DTSTAMP:20140129T044451Z
CATEGORIES:
DESCRIPTION:おかしつくりと閉級式
SUMMARY:ふれあいくらぶ
PRIORITY:0
CLASS:PUBLIC
END:VEVENT
END:VCALENDAR
