BEGIN:VCALENDAR
CALSCALE:GREGORIAN
X-WR-TIMEZONE;VALUE=TEXT:GMT
PRODID:PEAK Corporation - piCal -
X-WR-CALNAME;VALUE=TEXT:洞小　卒業証書授与式
VERSION:2.0
METHOD:PUBLISH
BEGIN:VTIMEZONE
TZID:GMT
BEGIN:STANDARD
DTSTART:19390101T000000
TZOFFSETFROM:+0000
TZOFFSETTO:+0000
TZNAME:GMT
END:STANDARD
END:VTIMEZONE
BEGIN:VEVENT
DTSTART:20140325T000000Z
DTEND:20140325T012000Z
LOCATION:洞戸小学校　体育館
TRANSP:OPAQUE
SEQUENCE:0
UID:pical060-c822b1b53e4687751bca8550ea2e562a
DTSTAMP:20140130T002627Z
CATEGORIES:学校関連（小中）
DESCRIPTION:８：５５　　卒業生入場\n９：００〜　卒業証書授与式
SUMMARY:洞小　卒業証書授与式
PRIORITY:0
CLASS:PUBLIC
END:VEVENT
END:VCALENDAR
