BEGIN:VCALENDAR
CALSCALE:GREGORIAN
X-WR-TIMEZONE;VALUE=TEXT:GMT
PRODID:PEAK Corporation - piCal -
X-WR-CALNAME;VALUE=TEXT:洞小　平成２５年度修了式　離任式
VERSION:2.0
METHOD:PUBLISH
BEGIN:VTIMEZONE
TZID:GMT
BEGIN:STANDARD
DTSTART:19390101T000000
TZOFFSETFROM:+0000
TZOFFSETTO:+0000
TZNAME:GMT
END:STANDARD
END:VTIMEZONE
BEGIN:VEVENT
DTSTART:20140325T234000Z
DTEND:20140326T023000Z
LOCATION:洞戸小学校　体育館
TRANSP:OPAQUE
SEQUENCE:0
UID:pical060-873bb5ac690a51f637ace7781ee64591
DTSTAMP:20140130T003035Z
CATEGORIES:学校関連（小中）
DESCRIPTION:
SUMMARY:洞小　平成２５年度修了式　離任式
PRIORITY:0
CLASS:PUBLIC
END:VEVENT
END:VCALENDAR
