BEGIN:VCALENDAR
CALSCALE:GREGORIAN
X-WR-TIMEZONE;VALUE=TEXT:GMT
PRODID:PEAK Corporation - piCal -
X-WR-CALNAME;VALUE=TEXT:社協洞戸支部：サロン交流会打ち合わせ
VERSION:2.0
METHOD:PUBLISH
BEGIN:VTIMEZONE
TZID:GMT
BEGIN:STANDARD
DTSTART:19390101T000000
TZOFFSETFROM:+0000
TZOFFSETTO:+0000
TZNAME:GMT
END:STANDARD
END:VTIMEZONE
BEGIN:VEVENT
DTSTART:20140221T003000Z
DTEND:20140221T030000Z
LOCATION:洞戸老人福祉センター・軽作業室
TRANSP:OPAQUE
SEQUENCE:1
UID:pical060-0f00222c4bd106246b3eaad5c9f3dcd0
DTSTAMP:20140205T094838Z
CATEGORIES:社協　洞戸支部
DESCRIPTION:《　議　題　》\n・サロン交流会内容\n・当日までの役割分担について\n・当日の役割分担について\n・参加者の送迎について\n・参加者の取りまとめについて\n・２６年度のサロン活動計画について\n・その他\n　地区の課題
SUMMARY:社協洞戸支部：サロン交流会打ち合わせ
PRIORITY:0
CLASS:PUBLIC
END:VEVENT
END:VCALENDAR
