BEGIN:VCALENDAR
CALSCALE:GREGORIAN
X-WR-TIMEZONE;VALUE=TEXT:GMT
PRODID:PEAK Corporation - piCal -
X-WR-CALNAME;VALUE=TEXT:社協洞戸支部：福祉委員との合同研修会
VERSION:2.0
METHOD:PUBLISH
BEGIN:VTIMEZONE
TZID:GMT
BEGIN:STANDARD
DTSTART:19390101T000000
TZOFFSETFROM:+0000
TZOFFSETTO:+0000
TZNAME:GMT
END:STANDARD
END:VTIMEZONE
BEGIN:VEVENT
DTSTART:20140209T010000Z
DTEND:20140209T033000Z
LOCATION:洞戸生涯学習センター・集会室
TRANSP:OPAQUE
SEQUENCE:0
UID:pical060-c3078a65f51da2455d36ea6c9b2db0fc
DTSTAMP:20140205T040428Z
CATEGORIES:社協　洞戸支部
DESCRIPTION:《　内容　》\n・講演：高齢者福祉サービスについて\n　　　　講師：西地域包括支援センター職員\n・民生児童委員の紹介\n・福祉委員の任期について\n・地区別交流会\n・その他
SUMMARY:社協洞戸支部：福祉委員との合同研修会
PRIORITY:0
CLASS:PUBLIC
END:VEVENT
END:VCALENDAR
