BEGIN:VCALENDAR
CALSCALE:GREGORIAN
X-WR-TIMEZONE;VALUE=TEXT:GMT
PRODID:PEAK Corporation - piCal -
X-WR-CALNAME;VALUE=TEXT:社協洞戸支部：理事会
VERSION:2.0
METHOD:PUBLISH
BEGIN:VTIMEZONE
TZID:GMT
BEGIN:STANDARD
DTSTART:19390101T000000
TZOFFSETFROM:+0000
TZOFFSETTO:+0000
TZNAME:GMT
END:STANDARD
END:VTIMEZONE
BEGIN:VEVENT
DTSTART:20140314T100000Z
DTEND:20140314T123000Z
LOCATION:洞戸老人福祉センター・軽作業室　
TRANSP:OPAQUE
SEQUENCE:0
UID:pical060-d51fd2dd892005ec80d9548e2980029a
DTSTAMP:20140304T123540Z
CATEGORIES:社協　洞戸支部
DESCRIPTION:《　議題　》\n・26年度事業計画・会計について\n・福祉委員改選について\n・地域福祉懇談会の検討課題について\n・各部会からの報告\n・その他
SUMMARY:社協洞戸支部：理事会
PRIORITY:0
CLASS:PUBLIC
END:VEVENT
END:VCALENDAR
