BEGIN:VCALENDAR
CALSCALE:GREGORIAN
X-WR-TIMEZONE;VALUE=TEXT:GMT
PRODID:PEAK Corporation - piCal -
X-WR-CALNAME;VALUE=TEXT:ふれあいいきいきサロン交流会（社協洞戸支部）
VERSION:2.0
METHOD:PUBLISH
BEGIN:VTIMEZONE
TZID:GMT
BEGIN:STANDARD
DTSTART:19390101T000000
TZOFFSETFROM:+0000
TZOFFSETTO:+0000
TZNAME:GMT
END:STANDARD
END:VTIMEZONE
BEGIN:VEVENT
DTSTART:20140326T010000Z
DTEND:20140326T060000Z
LOCATION:洞戸老人福祉センター　・研修室　
TRANSP:OPAQUE
SEQUENCE:0
UID:pical060-0715c57114e8b696c52eb7950ffe0d57
DTSTAMP:20140304T124946Z
CATEGORIES:社協　洞戸支部
DESCRIPTION:《　内容　》\n?講話　「高齢者福祉サービスについて」\n　　　　　　　講師：包括支援センター職員\n?音楽療法　　講師：藤沢　玲子氏\n?昼食（弁当）…（食協の方が作ってくださいます）\n?アトラクション\n　　　　　マジック＆マンドリン演奏　国光御夫妻様\n?ビンゴゲーム（参加者全員に景品あり）\n
SUMMARY:ふれあいいきいきサロン交流会（社協洞戸支部）
PRIORITY:0
CLASS:PUBLIC
END:VEVENT
END:VCALENDAR
