BEGIN:VCALENDAR
CALSCALE:GREGORIAN
X-WR-TIMEZONE;VALUE=TEXT:GMT
PRODID:PEAK Corporation - piCal -
X-WR-CALNAME;VALUE=TEXT:洞戸小６年修学旅行
VERSION:2.0
METHOD:PUBLISH
BEGIN:VTIMEZONE
TZID:GMT
BEGIN:STANDARD
DTSTART:19390101T000000
TZOFFSETFROM:+0000
TZOFFSETTO:+0000
TZNAME:GMT
END:STANDARD
END:VTIMEZONE
BEGIN:VEVENT
DTSTART:20140521T214000Z
DTEND:20140523T091500Z
LOCATION:
TRANSP:OPAQUE
SEQUENCE:0
UID:pical060-412141590c8ef2d6781c75ee94bebaad
DTSTAMP:20140519T090322Z
CATEGORIES:学校関連（小中）
DESCRIPTION:
SUMMARY:洞戸小６年修学旅行
PRIORITY:0
CLASS:PUBLIC
END:VEVENT
END:VCALENDAR
