BEGIN:VCALENDAR
CALSCALE:GREGORIAN
X-WR-TIMEZONE;VALUE=TEXT:GMT
PRODID:PEAK Corporation - piCal -
X-WR-CALNAME;VALUE=TEXT:洞戸小５年野外学習
VERSION:2.0
METHOD:PUBLISH
BEGIN:VTIMEZONE
TZID:GMT
BEGIN:STANDARD
DTSTART:19390101T000000
TZOFFSETFROM:+0000
TZOFFSETTO:+0000
TZNAME:GMT
END:STANDARD
END:VTIMEZONE
BEGIN:VEVENT
DTSTART:20140604T000000Z
DTEND:20140605T080000Z
LOCATION:
TRANSP:OPAQUE
SEQUENCE:0
UID:pical060-744f9ed595c8a707af1f835be5d5aafa
DTSTAMP:20140519T093652Z
CATEGORIES:学校関連（小中）
DESCRIPTION:
SUMMARY:洞戸小５年野外学習
PRIORITY:0
CLASS:PUBLIC
END:VEVENT
END:VCALENDAR
