BEGIN:VCALENDAR
CALSCALE:GREGORIAN
X-WR-TIMEZONE;VALUE=TEXT:GMT
PRODID:PEAK Corporation - piCal -
X-WR-CALNAME;VALUE=TEXT:洞戸小　授業参観、救急救命法講習会、学級懇談会
VERSION:2.0
METHOD:PUBLISH
BEGIN:VTIMEZONE
TZID:GMT
BEGIN:STANDARD
DTSTART:19390101T000000
TZOFFSETFROM:+0000
TZOFFSETTO:+0000
TZNAME:GMT
END:STANDARD
END:VTIMEZONE
BEGIN:VEVENT
DTSTART:20140704T043000Z
DTEND:20140704T073000Z
LOCATION:
TRANSP:OPAQUE
SEQUENCE:0
UID:pical060-92de8ad7209e3fe768fec3c89e8054d2
DTSTAMP:20140624T070722Z
CATEGORIES:学校関連（小中）
DESCRIPTION:
SUMMARY:洞戸小　授業参観、救急救命法講習会、学級懇談会
PRIORITY:0
CLASS:PUBLIC
END:VEVENT
END:VCALENDAR
