BEGIN:VCALENDAR
CALSCALE:GREGORIAN
X-WR-TIMEZONE;VALUE=TEXT:GMT
PRODID:PEAK Corporation - piCal -
X-WR-CALNAME;VALUE=TEXT:洞戸小　連れ去り防止教室
VERSION:2.0
METHOD:PUBLISH
BEGIN:VTIMEZONE
TZID:GMT
BEGIN:STANDARD
DTSTART:19390101T000000
TZOFFSETFROM:+0000
TZOFFSETTO:+0000
TZNAME:GMT
END:STANDARD
END:VTIMEZONE
BEGIN:VEVENT
DTSTART:20140708T045500Z
DTEND:20140708T054000Z
LOCATION:本校体育館
TRANSP:OPAQUE
SEQUENCE:0
UID:pical060-f906e951392da5744431cc57065b6f0d
DTSTAMP:20140624T071011Z
CATEGORIES:学校関連（小中）
DESCRIPTION:岐阜県警　たんぽぽ班による教室です。\n１学年から３学年までの子たちが学びます。
SUMMARY:洞戸小　連れ去り防止教室
PRIORITY:0
CLASS:PUBLIC
END:VEVENT
END:VCALENDAR
