BEGIN:VCALENDAR
CALSCALE:GREGORIAN
X-WR-TIMEZONE;VALUE=TEXT:GMT
PRODID:PEAK Corporation - piCal -
X-WR-CALNAME;VALUE=TEXT:介護者の集い（関市社協洞戸支部）
VERSION:2.0
METHOD:PUBLISH
BEGIN:VTIMEZONE
TZID:GMT
BEGIN:STANDARD
DTSTART:19390101T000000
TZOFFSETFROM:+0000
TZOFFSETTO:+0000
TZNAME:GMT
END:STANDARD
END:VTIMEZONE
BEGIN:VEVENT
DTSTART:20141008T013000Z
DTEND:20141008T053000Z
LOCATION:洞戸グループポーム・天津風とレストラン「幸」
TRANSP:OPAQUE
SEQUENCE:0
UID:pical060-f93cf6f798954b66c37cbcd518d5ef94
DTSTAMP:20140917T034749Z
CATEGORIES:社協　洞戸支部
DESCRIPTION:《　日程　》\nAM：洞戸グループホーム「天津風」\n　　施設内見学・概要説明等\nPA：レストラン「幸」　\n　　昼食：鮎釜めしセット\n　　講話：お年寄りの世界を理解する\n　　　　　講師：西包括支援センター職員\n　　交流会：参加者・西包括支援センター職員・社協役員\n※集合場所：洞戸老人福祉センターに10時30分集合\n※参加費：200円（当日徴収）\n※申し込み：地区福祉委員・洞戸老人福祉センターへ\n　　　　　　　　　　　　　（&#9742;５８−８５１１）\n※申込期日：9月30日（火）\n※参加対象者の方はご家族を自宅で介護等されて\n　おられる方
SUMMARY:介護者の集い（関市社協洞戸支部）
PRIORITY:0
CLASS:PUBLIC
END:VEVENT
END:VCALENDAR
