BEGIN:VCALENDAR
CALSCALE:GREGORIAN
X-WR-TIMEZONE;VALUE=TEXT:GMT
PRODID:PEAK Corporation - piCal -
X-WR-CALNAME;VALUE=TEXT:洞戸小　就学時検診
VERSION:2.0
METHOD:PUBLISH
BEGIN:VTIMEZONE
TZID:GMT
BEGIN:STANDARD
DTSTART:19390101T000000
TZOFFSETFROM:+0000
TZOFFSETTO:+0000
TZNAME:GMT
END:STANDARD
END:VTIMEZONE
BEGIN:VEVENT
DTSTART:20141015T044000Z
DTEND:20141015T070000Z
LOCATION:
TRANSP:OPAQUE
SEQUENCE:0
UID:pical060-667936b44443da187b4664430a7797ad
DTSTAMP:20140923T233559Z
CATEGORIES:学校関連（小中）
DESCRIPTION:
SUMMARY:洞戸小　就学時検診
PRIORITY:0
CLASS:PUBLIC
END:VEVENT
END:VCALENDAR
