BEGIN:VCALENDAR
CALSCALE:GREGORIAN
X-WR-TIMEZONE;VALUE=TEXT:GMT
PRODID:PEAK Corporation - piCal -
X-WR-CALNAME;VALUE=TEXT:洞戸小　山の子収穫祭
VERSION:2.0
METHOD:PUBLISH
BEGIN:VTIMEZONE
TZID:GMT
BEGIN:STANDARD
DTSTART:19390101T000000
TZOFFSETFROM:+0000
TZOFFSETTO:+0000
TZNAME:GMT
END:STANDARD
END:VTIMEZONE
BEGIN:VEVENT
DTSTART:20141030T003000Z
DTEND:20141030T032000Z
LOCATION:体育館
TRANSP:OPAQUE
SEQUENCE:0
UID:pical060-9f53c44318923743249936be26533f90
DTSTAMP:20140923T234158Z
CATEGORIES:学校関連（小中）
DESCRIPTION:
SUMMARY:洞戸小　山の子収穫祭
PRIORITY:0
CLASS:PUBLIC
END:VEVENT
END:VCALENDAR
