BEGIN:VCALENDAR
CALSCALE:GREGORIAN
X-WR-TIMEZONE;VALUE=TEXT:GMT
PRODID:PEAK Corporation - piCal -
X-WR-CALNAME;VALUE=TEXT:配食サービス（社協洞戸支部）　　　　　　
VERSION:2.0
METHOD:PUBLISH
BEGIN:VTIMEZONE
TZID:GMT
BEGIN:STANDARD
DTSTART:19390101T000000
TZOFFSETFROM:+0000
TZOFFSETTO:+0000
TZNAME:GMT
END:STANDARD
END:VTIMEZONE
BEGIN:VEVENT
DTSTART:20141122T000000Z
DTEND:20141122T030000Z
LOCATION:関市洞戸老人福祉センター
TRANSP:OPAQUE
SEQUENCE:0
UID:pical060-0b38f45742ece532467fc055e4e39793
DTSTAMP:20141112T091518Z
CATEGORIES:社協　洞戸支部
DESCRIPTION:《ひとり暮らしの方への弁当配布》\n・対象者：75歳以上の方で当日配食を希望される方
SUMMARY:配食サービス（社協洞戸支部）　　　　　　
PRIORITY:0
CLASS:PUBLIC
END:VEVENT
END:VCALENDAR
