BEGIN:VCALENDAR
CALSCALE:GREGORIAN
X-WR-TIMEZONE;VALUE=TEXT:GMT
PRODID:PEAK Corporation - piCal -
X-WR-CALNAME;VALUE=TEXT:社協洞戸支部：研修　　　　　　　　
VERSION:2.0
METHOD:PUBLISH
BEGIN:VTIMEZONE
TZID:GMT
BEGIN:STANDARD
DTSTART:19390101T000000
TZOFFSETFROM:+0000
TZOFFSETTO:+0000
TZNAME:GMT
END:STANDARD
END:VTIMEZONE
BEGIN:VEVENT
DTSTART:20141120T223000Z
DTEND:20141121T100000Z
LOCATION:
TRANSP:OPAQUE
SEQUENCE:0
UID:pical060-e9b5dddf2c4d28866727cb255489002e
DTSTAMP:20141112T092344Z
CATEGORIES:社協　洞戸支部
DESCRIPTION:・研修先：久能山東照宮と焼津おさかなセンター\n　（社内研修）\n・参加費：５,０００円
SUMMARY:社協洞戸支部：研修　　　　　　　　
PRIORITY:0
CLASS:PUBLIC
END:VEVENT
END:VCALENDAR
