BEGIN:VCALENDAR
CALSCALE:GREGORIAN
X-WR-TIMEZONE;VALUE=TEXT:GMT
PRODID:PEAK Corporation - piCal -
X-WR-CALNAME;VALUE=TEXT:社協洞戸支部：理事会　　　
VERSION:2.0
METHOD:PUBLISH
BEGIN:VTIMEZONE
TZID:GMT
BEGIN:STANDARD
DTSTART:19390101T000000
TZOFFSETFROM:+0000
TZOFFSETTO:+0000
TZNAME:GMT
END:STANDARD
END:VTIMEZONE
BEGIN:VEVENT
DTSTART:20141104T100000Z
DTEND:20141104T123000Z
LOCATION:洞戸老人福祉センター・軽作業室　　　
TRANSP:OPAQUE
SEQUENCE:0
UID:pical060-5ffb42af871235786032cde8f012b600
DTSTAMP:20141112T123730Z
CATEGORIES:社協　洞戸支部
DESCRIPTION:《 議 題 》\n・社協研修について\n・友愛訪問について\n・地域ふくし懇談会のまとめ及び課題について\n・各部会からの報告
SUMMARY:社協洞戸支部：理事会　　　
PRIORITY:0
CLASS:PUBLIC
END:VEVENT
END:VCALENDAR
