BEGIN:VCALENDAR
CALSCALE:GREGORIAN
X-WR-TIMEZONE;VALUE=TEXT:GMT
PRODID:PEAK Corporation - piCal -
X-WR-CALNAME;VALUE=TEXT:洞戸小　関市連合音楽会参加
VERSION:2.0
METHOD:PUBLISH
BEGIN:VTIMEZONE
TZID:GMT
BEGIN:STANDARD
DTSTART:19390101T000000
TZOFFSETFROM:+0000
TZOFFSETTO:+0000
TZNAME:GMT
END:STANDARD
END:VTIMEZONE
BEGIN:VEVENT
DTSTART:20141113T000000Z
DTEND:20141113T030000Z
LOCATION:関市文化会館
TRANSP:OPAQUE
SEQUENCE:1
UID:pical060-0245fccbb845d221164801bdfc45b6f1
DTSTAMP:20141114T032959Z
CATEGORIES:学校関連（小中）
DESCRIPTION:
SUMMARY:洞戸小　関市連合音楽会参加
PRIORITY:0
CLASS:PUBLIC
END:VEVENT
END:VCALENDAR
