BEGIN:VCALENDAR
CALSCALE:GREGORIAN
X-WR-TIMEZONE;VALUE=TEXT:GMT
PRODID:PEAK Corporation - piCal -
X-WR-CALNAME;VALUE=TEXT:洞戸小３学期始業式
VERSION:2.0
METHOD:PUBLISH
BEGIN:VTIMEZONE
TZID:GMT
BEGIN:STANDARD
DTSTART:19390101T000000
TZOFFSETFROM:+0000
TZOFFSETTO:+0000
TZNAME:GMT
END:STANDARD
END:VTIMEZONE
BEGIN:VEVENT
DTSTART:20150108T000500Z
DTEND:20150108T004000Z
LOCATION:洞戸小学校　体育館
TRANSP:OPAQUE
SEQUENCE:1
UID:pical060-e3887d16fb88ab43001e3ee55ada266a
DTSTAMP:20141216T233740Z
CATEGORIES:学校関連（小中）
DESCRIPTION:
SUMMARY:洞戸小３学期始業式
PRIORITY:0
CLASS:PUBLIC
END:VEVENT
END:VCALENDAR
