BEGIN:VCALENDAR
CALSCALE:GREGORIAN
X-WR-TIMEZONE;VALUE=TEXT:GMT
PRODID:PEAK Corporation - piCal -
X-WR-CALNAME;VALUE=TEXT:洞戸小　書き初め会
VERSION:2.0
METHOD:PUBLISH
BEGIN:VTIMEZONE
TZID:GMT
BEGIN:STANDARD
DTSTART:19390101T000000
TZOFFSETFROM:+0000
TZOFFSETTO:+0000
TZNAME:GMT
END:STANDARD
END:VTIMEZONE
BEGIN:VEVENT
DTSTART:20150109T003000Z
DTEND:20150109T011500Z
LOCATION:
TRANSP:OPAQUE
SEQUENCE:0
UID:pical060-48d799cb6332d8ca061977f0632c4449
DTSTAMP:20141217T002807Z
CATEGORIES:学校関連（小中）
DESCRIPTION:
SUMMARY:洞戸小　書き初め会
PRIORITY:0
CLASS:PUBLIC
END:VEVENT
END:VCALENDAR
