BEGIN:VCALENDAR
CALSCALE:GREGORIAN
X-WR-TIMEZONE;VALUE=TEXT:GMT
PRODID:PEAK Corporation - piCal -
X-WR-CALNAME;VALUE=TEXT:おせち料理配布（関市社協）　　　
VERSION:2.0
METHOD:PUBLISH
BEGIN:VTIMEZONE
TZID:GMT
BEGIN:STANDARD
DTSTART:19390101T000000
TZOFFSETFROM:+0000
TZOFFSETTO:+0000
TZNAME:GMT
END:STANDARD
END:VTIMEZONE
BEGIN:VEVENT
DTSTART:20141231T020000Z
DTEND:20141231T030000Z
LOCATION:
TRANSP:OPAQUE
SEQUENCE:0
UID:pical060-3af16b650bb48daef52d61b51336d883
DTSTAMP:20141226T133347Z
CATEGORIES:社協　洞戸支部
DESCRIPTION:《　おせち料理配布　》\n・対象者・・・70歳以上のひとり暮らしの方\n　　　　　　　（年末年始をひとりで過ごされる方）\n・配布してくださる方・・・地区の民生委員と\n　　　　　　　　　　　　　地区の福祉委員の方
SUMMARY:おせち料理配布（関市社協）　　　
PRIORITY:0
CLASS:PUBLIC
END:VEVENT
END:VCALENDAR
