BEGIN:VCALENDAR
CALSCALE:GREGORIAN
X-WR-TIMEZONE;VALUE=TEXT:GMT
PRODID:PEAK Corporation - piCal -
X-WR-CALNAME;VALUE=TEXT:社協洞戸支部：理事会及び新年会
VERSION:2.0
METHOD:PUBLISH
BEGIN:VTIMEZONE
TZID:GMT
BEGIN:STANDARD
DTSTART:19390101T000000
TZOFFSETFROM:+0000
TZOFFSETTO:+0000
TZNAME:GMT
END:STANDARD
END:VTIMEZONE
BEGIN:VEVENT
DTSTART:20150123T090000Z
DTEND:20150123T120000Z
LOCATION:洞戸通元寺１１２　「美乃武」
TRANSP:OPAQUE
SEQUENCE:0
UID:pical060-48d33a7390a6e0444a4bd99ba16ab212
DTSTAMP:20141226T134340Z
CATEGORIES:社協　洞戸支部
DESCRIPTION:《　議題　》\n・27年度理事改選について\n・合同研修会について\n・合同ふれあいいきいきサロンについて\n・友愛訪問について\n・その他
SUMMARY:社協洞戸支部：理事会及び新年会
PRIORITY:0
CLASS:PUBLIC
END:VEVENT
END:VCALENDAR
