BEGIN:VCALENDAR
CALSCALE:GREGORIAN
X-WR-TIMEZONE;VALUE=TEXT:GMT
PRODID:PEAK Corporation - piCal -
X-WR-CALNAME;VALUE=TEXT:社協洞戸支部：理事会　　　　　
VERSION:2.0
METHOD:PUBLISH
BEGIN:VTIMEZONE
TZID:GMT
BEGIN:STANDARD
DTSTART:19390101T000000
TZOFFSETFROM:+0000
TZOFFSETTO:+0000
TZNAME:GMT
END:STANDARD
END:VTIMEZONE
BEGIN:VEVENT
DTSTART:20150602T003000Z
DTEND:20150602T030000Z
LOCATION:洞戸老人福祉センター　軽作業室
TRANSP:OPAQUE
SEQUENCE:0
UID:pical060-ca35be79e158a752834b9e9d131352ac
DTSTAMP:20150623T124230Z
CATEGORIES:社協　洞戸支部
DESCRIPTION:《　議　題　》\n・七夕交流会について\n・見守りボランティア研修について\n・ミニ集会（奥洞戸地区）について\n・老人福祉センター有効利用進捗状況について\n・その他
SUMMARY:社協洞戸支部：理事会　　　　　
PRIORITY:0
CLASS:PUBLIC
END:VEVENT
END:VCALENDAR
