BEGIN:VCALENDAR
CALSCALE:GREGORIAN
X-WR-TIMEZONE;VALUE=TEXT:GMT
PRODID:PEAK Corporation - piCal -
X-WR-CALNAME;VALUE=TEXT:七夕交流会（関市社協洞戸支部）
VERSION:2.0
METHOD:PUBLISH
BEGIN:VTIMEZONE
TZID:GMT
BEGIN:STANDARD
DTSTART:19390101T000000
TZOFFSETFROM:+0000
TZOFFSETTO:+0000
TZNAME:GMT
END:STANDARD
END:VTIMEZONE
BEGIN:VEVENT
DTSTART:20150708T013000Z
DTEND:20150708T060000Z
LOCATION:洞戸老人福祉センター　軽作業室　　　
TRANSP:OPAQUE
SEQUENCE:1
UID:pical060-79d8100c93593f7361d11a285186ee12
DTSTAMP:20150623T125841Z
CATEGORIES:社協　洞戸支部
DESCRIPTION:《　内　容　》\n・短冊に願いを書いて飾り付けをします\n・講演「笑って　ふれあい　楽しむ人生」\n　　　　講師：梅村　新二郎氏\n・昼食：手作りお弁当（食生活改善協議会の皆さん）\n・保育園児による歌唱\n・健康作り体操\n　　　　講師：森　雪絵氏\n・全員で「七夕さま」の歌を合唱
SUMMARY:七夕交流会（関市社協洞戸支部）
PRIORITY:0
CLASS:PUBLIC
END:VEVENT
END:VCALENDAR
