BEGIN:VCALENDAR
CALSCALE:GREGORIAN
X-WR-TIMEZONE;VALUE=TEXT:GMT
PRODID:PEAK Corporation - piCal -
X-WR-CALNAME;VALUE=TEXT:社協洞戸支部：見守りボランティア研修会
VERSION:2.0
METHOD:PUBLISH
BEGIN:VTIMEZONE
TZID:GMT
BEGIN:STANDARD
DTSTART:19390101T000000
TZOFFSETFROM:+0000
TZOFFSETTO:+0000
TZNAME:GMT
END:STANDARD
END:VTIMEZONE
BEGIN:VEVENT
DTSTART:20150715T103000Z
DTEND:20150715T120000Z
LOCATION:洞戸老人福祉センター・研修室他　　
TRANSP:OPAQUE
SEQUENCE:0
UID:pical060-585e853fed2e16c3be798616512034b6
DTSTAMP:20150623T131639Z
CATEGORIES:社協　洞戸支部
DESCRIPTION:《　内　容　》\n・小学生の夏休みの過ごし方等について\n　　　講師：洞戸小学校長　興戸　浩道氏\n・各地区に分かれて交流会\n・各地区の状況、課題等の発表\n・その他
SUMMARY:社協洞戸支部：見守りボランティア研修会
PRIORITY:0
CLASS:PUBLIC
END:VEVENT
END:VCALENDAR
