BEGIN:VCALENDAR
CALSCALE:GREGORIAN
X-WR-TIMEZONE;VALUE=TEXT:GMT
PRODID:PEAK Corporation - piCal -
X-WR-CALNAME;VALUE=TEXT:社協洞戸支部：理事会
VERSION:2.0
METHOD:PUBLISH
BEGIN:VTIMEZONE
TZID:GMT
BEGIN:STANDARD
DTSTART:19390101T000000
TZOFFSETFROM:+0000
TZOFFSETTO:+0000
TZNAME:GMT
END:STANDARD
END:VTIMEZONE
BEGIN:VEVENT
DTSTART:20150811T003000Z
DTEND:20150811T030000Z
LOCATION:洞戸老人福祉センター　軽作業室　　　　　
TRANSP:OPAQUE
SEQUENCE:0
UID:pical060-0bac0c206e55048a2c613f2fca9edf70
DTSTAMP:20150811T032806Z
CATEGORIES:社協　洞戸支部
DESCRIPTION:《　議題　》\n・福祉委員・民生児童委員・理事との合同研修会(8/28)\n　について\n・地域福祉懇談会(9/25)について\n・各部会からの報告\n・老人福祉センターの活用状況等について\n・その他
SUMMARY:社協洞戸支部：理事会
PRIORITY:0
CLASS:PUBLIC
END:VEVENT
END:VCALENDAR
