BEGIN:VCALENDAR
CALSCALE:GREGORIAN
X-WR-TIMEZONE;VALUE=TEXT:GMT
PRODID:PEAK Corporation - piCal -
X-WR-CALNAME;VALUE=TEXT:午後）　絵てがみ
VERSION:2.0
METHOD:PUBLISH
BEGIN:VTIMEZONE
TZID:Etc/GMT-9
BEGIN:STANDARD
DTSTART:19390101T000000
TZOFFSETFROM:+0900
TZOFFSETTO:+0900
TZNAME:Etc/GMT-9
END:STANDARD
END:VTIMEZONE
BEGIN:VEVENT
DTSTART;TZID=Etc/GMT-9:20110422T130000
DTEND;TZID=Etc/GMT-9:20110422T153000
LOCATION:集会室1
TRANSP:OPAQUE
SEQUENCE:2
UID:pical060-23ec69122e009f5f69cb8be5ecb1e2ab
DTSTAMP:20110416T114232Z
CATEGORIES:学習センター
DESCRIPTION:
SUMMARY:午後）　絵てがみ
RRULE:FREQ=MONTHLY;INTERVAL=1;BYDAY=4FR;UNTIL=20110622T145959Z;WKST=SU
PRIORITY:0
CLASS:PUBLIC
END:VEVENT
END:VCALENDAR
